BEGIN:VCALENDAR
VERSION:2.0
PRODID:-//Netcito - ECPv6.15.18//NONSGML v1.0//EN
CALSCALE:GREGORIAN
METHOD:PUBLISH
X-WR-CALNAME:Netcito
X-ORIGINAL-URL:https://netcito.com
X-WR-CALDESC:Events for Netcito
REFRESH-INTERVAL;VALUE=DURATION:PT1H
X-Robots-Tag:noindex
X-PUBLISHED-TTL:PT1H
BEGIN:VTIMEZONE
TZID:UTC
BEGIN:STANDARD
TZOFFSETFROM:+0000
TZOFFSETTO:+0000
TZNAME:UTC
DTSTART:20220101T000000
END:STANDARD
END:VTIMEZONE
BEGIN:VEVENT
DTSTART;TZID=UTC:20230518T120000
DTEND;TZID=UTC:20230518T130000
DTSTAMP:20260421T190240
CREATED:20230418T190716Z
LAST-MODIFIED:20230418T190744Z
UID:10000710-1684411200-1684414800@netcito.com
SUMMARY:Transforming Stress\, Anxiety\, and Discomfort Into Fuel for Growth
DESCRIPTION:In this session\, we’ll explore how mindfulness can help us be present with stress\, anxiety\, and discomfort in our daily lives. \nTogether\, we’ll cultivate an awareness of our thoughts and emotions\, and learn how to use mindfulness to respond to difficult situations with greater clarity and resilience. Through guided meditation\, learning\, and discussion\, we’ll gain new insights into mindfulness that support your well-being and productivity. \nLocation: Online via Zoom \nHost: Peter Mellen
URL:https://netcito.com/event/transforming-stress-anxiety-and-discomfort-into-fuel-for-growth/
ATTACH;FMTTYPE=image/png:https://netcito.com/wp-content/uploads/2022/01/Meditation-image-with-logo.png
ORGANIZER;CN="Peter Mellen":MAILTO:peter@petermellen.com
END:VEVENT
END:VCALENDAR