BEGIN:VCALENDAR
VERSION:2.0
PRODID:-//Netcito - ECPv6.15.18//NONSGML v1.0//EN
CALSCALE:GREGORIAN
METHOD:PUBLISH
X-WR-CALNAME:Netcito
X-ORIGINAL-URL:https://netcito.com
X-WR-CALDESC:Events for Netcito
REFRESH-INTERVAL;VALUE=DURATION:PT1H
X-Robots-Tag:noindex
X-PUBLISHED-TTL:PT1H
BEGIN:VTIMEZONE
TZID:America/New_York
BEGIN:DAYLIGHT
TZOFFSETFROM:-0500
TZOFFSETTO:-0400
TZNAME:EDT
DTSTART:20220313T070000
END:DAYLIGHT
BEGIN:STANDARD
TZOFFSETFROM:-0400
TZOFFSETTO:-0500
TZNAME:EST
DTSTART:20221106T060000
END:STANDARD
BEGIN:DAYLIGHT
TZOFFSETFROM:-0500
TZOFFSETTO:-0400
TZNAME:EDT
DTSTART:20230312T070000
END:DAYLIGHT
BEGIN:STANDARD
TZOFFSETFROM:-0400
TZOFFSETTO:-0500
TZNAME:EST
DTSTART:20231105T060000
END:STANDARD
BEGIN:DAYLIGHT
TZOFFSETFROM:-0500
TZOFFSETTO:-0400
TZNAME:EDT
DTSTART:20240310T070000
END:DAYLIGHT
BEGIN:STANDARD
TZOFFSETFROM:-0400
TZOFFSETTO:-0500
TZNAME:EST
DTSTART:20241103T060000
END:STANDARD
END:VTIMEZONE
BEGIN:VTIMEZONE
TZID:UTC
BEGIN:STANDARD
TZOFFSETFROM:+0000
TZOFFSETTO:+0000
TZNAME:UTC
DTSTART:20220101T000000
END:STANDARD
END:VTIMEZONE
BEGIN:VEVENT
DTSTART;TZID=America/New_York:20230504T090000
DTEND;TZID=America/New_York:20230504T120000
DTSTAMP:20260421T172038
CREATED:20221206T145858Z
LAST-MODIFIED:20230418T184826Z
UID:10000649-1683190800-1683201600@netcito.com
SUMMARY:Bizcito Monthly Meeting
DESCRIPTION:Bizcito meets the first Thursday of the month\, 9:00AM-12:00PM ET. \nChair: Jamey Stowell \nLocation: Online \n  \n2023 meeting dates:  \n5/4\n6/1\n7/6\n8/3\n9/7\n10/5\n11/2\n12/7
URL:https://netcito.com/event/bizcito-monthly-meeting-17/2023-05-04/
ATTACH;FMTTYPE=image/jpeg:https://netcito.com/wp-content/uploads/2022/04/LIghthouse-scaled.jpg
END:VEVENT
BEGIN:VEVENT
DTSTART;TZID=America/New_York:20230509T130000
DTEND;TZID=America/New_York:20230509T143000
DTSTAMP:20260421T172038
CREATED:20221206T145859Z
LAST-MODIFIED:20230418T184010Z
UID:10000277-1683637200-1683642600@netcito.com
SUMMARY:Agencito Quarterly Deep Dive
DESCRIPTION:Once a quarter\, Agencito groups will gather together for 90 minutes with thought leaders Nick Eubanks and Selena Vidya. Agencito members can ask whatever questions are relevant to them in the moment and get real-time answers from industry experts.
URL:https://netcito.com/event/agencito-quarterly-deep-dive/
ATTACH;FMTTYPE=image/jpeg:https://netcito.com/wp-content/uploads/2022/03/chang-duong-Sj0iMtq_Z4w-unsplash-scaled.jpg
END:VEVENT
BEGIN:VEVENT
DTSTART;TZID=America/New_York:20230512T100000
DTEND;TZID=America/New_York:20230512T130000
DTSTAMP:20260421T172038
CREATED:20221206T145859Z
LAST-MODIFIED:20230418T183513Z
UID:10000279-1683885600-1683896400@netcito.com
SUMMARY:Changecita Group Meeting
DESCRIPTION:The meeting for Changecita is scheduled for the 2nd Friday of every month from10:00AM-1:00PM. T \nLocation: TBD \nFacilitator:  Jamey S \n  \n2023 Meeting Dates: \n5/12 \n6/9 \n7/14 \n8/11 \n9/8 \n10/13 \n11/10 \n12/8 \n 
URL:https://netcito.com/event/changecita-group-meeting-5/2023-05-12/
ATTACH;FMTTYPE=image/png:https://netcito.com/wp-content/uploads/2022/12/Screenshot-2023-04-18-at-12.33.42-PM.png
END:VEVENT
BEGIN:VEVENT
DTSTART;TZID=America/New_York:20230515T100000
DTEND;TZID=America/New_York:20230515T130000
DTSTAMP:20260421T172038
CREATED:20221206T145859Z
LAST-MODIFIED:20230418T185103Z
UID:10000276-1684144800-1684155600@netcito.com
SUMMARY:Agencito Monthly Meeting
DESCRIPTION:The January meeting for Agencito is scheduled for (typically the first) Monday every month from 10:00AM-1:00PM ET. \n  \n2023 Agencito meetings: \n\n5/15\n6/5\n7/10 (moved back 1 week for the 7/4 holiday)\n8/7\n9/4\n10/2\n11/6\n12/4\n\nLocation: Online
URL:https://netcito.com/event/agencito-monthly-meeting-4/
ATTACH;FMTTYPE=image/jpeg:https://netcito.com/wp-content/uploads/2021/12/photo-1586486942853-511cfe2c6313-e1681843775654.jpeg
ORGANIZER;CN="zach@netcito.com":MAILTO:zach@netcito.com
END:VEVENT
BEGIN:VEVENT
DTSTART;TZID=America/New_York:20230516T140000
DTEND;TZID=America/New_York:20230516T170000
DTSTAMP:20260421T172038
CREATED:20221206T145859Z
LAST-MODIFIED:20230418T182859Z
UID:10000470-1684245600-1684256400@netcito.com
SUMMARY:Bosscito Monthly Meeting
DESCRIPTION:Bosscito meetings are set for the 3rd Tuesday of each month\, from 2:00PM-5:00PM. \nLocation: TBD \nChair: Haley Richers \nVice Chair: Nick Ilev \n2023 Meeting Dates\n4/18 \n5/16 \n6/20 \n7/18 \n8/15 \n9/19 \n10/17 \n11/21 \n12/19
URL:https://netcito.com/event/bosscito-monthly-meeting-18/2023-05-16/
ATTACH;FMTTYPE=image/jpeg:https://netcito.com/wp-content/uploads/2021/03/January-meeting-image-21.jpeg
END:VEVENT
BEGIN:VEVENT
DTSTART;TZID=UTC:20230518T120000
DTEND;TZID=UTC:20230518T130000
DTSTAMP:20260421T172038
CREATED:20230418T190716Z
LAST-MODIFIED:20230418T190744Z
UID:10000710-1684411200-1684414800@netcito.com
SUMMARY:Transforming Stress\, Anxiety\, and Discomfort Into Fuel for Growth
DESCRIPTION:In this session\, we’ll explore how mindfulness can help us be present with stress\, anxiety\, and discomfort in our daily lives. \nTogether\, we’ll cultivate an awareness of our thoughts and emotions\, and learn how to use mindfulness to respond to difficult situations with greater clarity and resilience. Through guided meditation\, learning\, and discussion\, we’ll gain new insights into mindfulness that support your well-being and productivity. \nLocation: Online via Zoom \nHost: Peter Mellen
URL:https://netcito.com/event/transforming-stress-anxiety-and-discomfort-into-fuel-for-growth/
ATTACH;FMTTYPE=image/png:https://netcito.com/wp-content/uploads/2022/01/Meditation-image-with-logo.png
ORGANIZER;CN="Peter Mellen":MAILTO:peter@petermellen.com
END:VEVENT
BEGIN:VEVENT
DTSTART;TZID=America/New_York:20230519T143000
DTEND;TZID=America/New_York:20230519T180000
DTSTAMP:20260421T172038
CREATED:20221206T145859Z
LAST-MODIFIED:20230418T182342Z
UID:10000410-1684506600-1684519200@netcito.com
SUMMARY:Twocito Monthly Meeting
DESCRIPTION:The next Twocito meeting is scheduled monthly on the third Friday of the month from 2:30PM-6:00PM. \nChair: Zach Wilson \nVice Chair: Ian Fisk \nHost: TBD \n  \n2023 meeting dates \n4/21 \n5/19 \n6/16 \n7/21 \n8/18 \n9/15 \n10/20 \n11/17 \n12/15
URL:https://netcito.com/event/twocito-monthly-meeting-16/2023-05-19/
ATTACH;FMTTYPE=image/jpeg:https://netcito.com/wp-content/uploads/2021/03/February-meeting-image-2-21-scaled.jpg
END:VEVENT
BEGIN:VEVENT
DTSTART;TZID=UTC:20230522T120000
DTEND;TZID=UTC:20230522T133000
DTSTAMP:20260421T172038
CREATED:20230426T174006Z
LAST-MODIFIED:20230502T223322Z
UID:10000712-1684756800-1684762200@netcito.com
SUMMARY:Execution Essentials [1 of 3]
DESCRIPTION:Session 1: Mastering Weekly Tactical Meetings \nHosted by Dave Newberry of Six Corners \nThis session will introduce you to business operating systems and Netcito’s Execution Essentials. Learn a proven structure for efficient meetings that accelerate growth\, simplify solutions\, and save entrepreneurial sanity. Through interactive discussions and practice\, you’ll master framing\, clarifying\, and solving “Parking Lot” items effectively. \n 
URL:https://netcito.com/event/execution-essentials-1-of-3/
ATTACH;FMTTYPE=image/jpeg:https://netcito.com/wp-content/uploads/2022/04/henry-be-Pg63JThyCg-unsplash-scaled.jpg
END:VEVENT
BEGIN:VEVENT
DTSTART;TZID=America/New_York:20230523T130000
DTEND;TZID=America/New_York:20230523T170000
DTSTAMP:20260421T172038
CREATED:20221206T145859Z
LAST-MODIFIED:20230418T182136Z
UID:10000350-1684846800-1684861200@netcito.com
SUMMARY:Phillycito Monthly Meeting
DESCRIPTION:Phillycito meetings are set for the 4th Tuesday of each month from 1-5PM\, with the first half hour usually reserved for lunch (when meeting in person). \nChair:  John S \nVice Chair: Leo \nLocation:  TBD \n  \n2023 meeting dates: \n4/25 \n5/23 \n6/27 \n7/25 \n8/22 \n9/26 \n10/24 \n11/28 \n12/19 (Moved up one week) \n  \n 
URL:https://netcito.com/event/phillycito-monthly-meeting-14/2023-05-23/
ATTACH;FMTTYPE=image/jpeg:https://netcito.com/wp-content/uploads/2021/04/February-meeting-image-21.jpg
END:VEVENT
BEGIN:VEVENT
DTSTART;TZID=America/New_York:20230524T120000
DTEND;TZID=America/New_York:20230524T130000
DTSTAMP:20260421T172038
CREATED:20230418T181536Z
LAST-MODIFIED:20230418T181536Z
UID:10000287-1684929600-1684933200@netcito.com
SUMMARY:Metacito: Power of Acknowledgment
DESCRIPTION:Metacito is for all Members. We hope you will join us. The skills we cover here are central to how you contribute to\, and the value you derive from\, Netcito monthly meetings. The topics also inform leadership in other environments in work and life. \n2023 Meeting Dates \n5/24 \n6/14
URL:https://netcito.com/event/metacito-power-of-acknowledgment/
ATTACH;FMTTYPE=image/jpeg:https://netcito.com/wp-content/uploads/2021/03/4101784-scaled.jpg
END:VEVENT
BEGIN:VEVENT
DTSTART;TZID=America/New_York:20230530T093000
DTEND;TZID=America/New_York:20230530T130000
DTSTAMP:20260421T172038
CREATED:20221206T145900Z
LAST-MODIFIED:20230418T184025Z
UID:10000290-1685439000-1685451600@netcito.com
SUMMARY:DCito Monthly meeting
DESCRIPTION:The DCito monthly meeting is scheduled for the final Tuesday of each month\, 9:30AM-1:00PM. The host/location for this meeting is TBD and we will update this information after the group’s last meeting has concluded. \nLocation: TBD \nChair: Chris V \nVice Chair:  Scott & Olivia
URL:https://netcito.com/event/dcito-monthly-meeting-13/2023-05-30/
ATTACH;FMTTYPE=image/png:https://netcito.com/wp-content/uploads/2022/12/Screenshot-2023-04-18-at-12.37.42-PM.png
END:VEVENT
END:VCALENDAR