BEGIN:VCALENDAR
VERSION:2.0
PRODID:-//Netcito - ECPv6.15.18//NONSGML v1.0//EN
CALSCALE:GREGORIAN
METHOD:PUBLISH
X-WR-CALNAME:Netcito
X-ORIGINAL-URL:https://netcito.com
X-WR-CALDESC:Events for Netcito
REFRESH-INTERVAL;VALUE=DURATION:PT1H
X-Robots-Tag:noindex
X-PUBLISHED-TTL:PT1H
BEGIN:VTIMEZONE
TZID:America/New_York
BEGIN:DAYLIGHT
TZOFFSETFROM:-0500
TZOFFSETTO:-0400
TZNAME:EDT
DTSTART:20220313T070000
END:DAYLIGHT
BEGIN:STANDARD
TZOFFSETFROM:-0400
TZOFFSETTO:-0500
TZNAME:EST
DTSTART:20221106T060000
END:STANDARD
BEGIN:DAYLIGHT
TZOFFSETFROM:-0500
TZOFFSETTO:-0400
TZNAME:EDT
DTSTART:20230312T070000
END:DAYLIGHT
BEGIN:STANDARD
TZOFFSETFROM:-0400
TZOFFSETTO:-0500
TZNAME:EST
DTSTART:20231105T060000
END:STANDARD
BEGIN:DAYLIGHT
TZOFFSETFROM:-0500
TZOFFSETTO:-0400
TZNAME:EDT
DTSTART:20240310T070000
END:DAYLIGHT
BEGIN:STANDARD
TZOFFSETFROM:-0400
TZOFFSETTO:-0500
TZNAME:EST
DTSTART:20241103T060000
END:STANDARD
END:VTIMEZONE
BEGIN:VTIMEZONE
TZID:UTC
BEGIN:STANDARD
TZOFFSETFROM:+0000
TZOFFSETTO:+0000
TZNAME:UTC
DTSTART:20220101T000000
END:STANDARD
END:VTIMEZONE
BEGIN:VTIMEZONE
TZID:America/Halifax
BEGIN:DAYLIGHT
TZOFFSETFROM:-0400
TZOFFSETTO:-0300
TZNAME:ADT
DTSTART:20220313T060000
END:DAYLIGHT
BEGIN:STANDARD
TZOFFSETFROM:-0300
TZOFFSETTO:-0400
TZNAME:AST
DTSTART:20221106T050000
END:STANDARD
BEGIN:DAYLIGHT
TZOFFSETFROM:-0400
TZOFFSETTO:-0300
TZNAME:ADT
DTSTART:20230312T060000
END:DAYLIGHT
BEGIN:STANDARD
TZOFFSETFROM:-0300
TZOFFSETTO:-0400
TZNAME:AST
DTSTART:20231105T050000
END:STANDARD
BEGIN:DAYLIGHT
TZOFFSETFROM:-0400
TZOFFSETTO:-0300
TZNAME:ADT
DTSTART:20240310T060000
END:DAYLIGHT
BEGIN:STANDARD
TZOFFSETFROM:-0300
TZOFFSETTO:-0400
TZNAME:AST
DTSTART:20241103T050000
END:STANDARD
END:VTIMEZONE
BEGIN:VEVENT
DTSTART;TZID=America/New_York:20230601T090000
DTEND;TZID=America/New_York:20230601T120000
DTSTAMP:20260421T154033
CREATED:20221206T145858Z
LAST-MODIFIED:20230418T184826Z
UID:10000650-1685610000-1685620800@netcito.com
SUMMARY:Bizcito Monthly Meeting
DESCRIPTION:Bizcito meets the first Thursday of the month\, 9:00AM-12:00PM ET. \nChair: Jamey Stowell \nLocation: Online \n  \n2023 meeting dates:  \n5/4\n6/1\n7/6\n8/3\n9/7\n10/5\n11/2\n12/7
URL:https://netcito.com/event/bizcito-monthly-meeting-17/2023-06-01/
ATTACH;FMTTYPE=image/jpeg:https://netcito.com/wp-content/uploads/2022/04/LIghthouse-scaled.jpg
END:VEVENT
BEGIN:VEVENT
DTSTART;TZID=America/New_York:20230605T100000
DTEND;TZID=America/New_York:20230605T130000
DTSTAMP:20260421T154033
CREATED:20230418T184529Z
LAST-MODIFIED:20230418T185031Z
UID:10000590-1685959200-1685970000@netcito.com
SUMMARY:Agencito Monthly Meeting
DESCRIPTION:The meeting for Agencito is scheduled for (typically the first) Monday every month from 10:00AM-1:00PM ET. \n  \n2023 Agencito meetings: \n\n5/15\n6/5\n7/10 (moved back 1 week for the 7/4 holiday)\n8/7\n9/4\n10/2\n11/6\n12/4\n\nLocation: Online
URL:https://netcito.com/event/agencito-monthly-meeting-5/2023-06-05/
ATTACH;FMTTYPE=image/jpeg:https://netcito.com/wp-content/uploads/2021/12/photo-1586486942853-511cfe2c6313-e1681843775654.jpeg
ORGANIZER;CN="zach@netcito.com":MAILTO:zach@netcito.com
END:VEVENT
BEGIN:VEVENT
DTSTART;TZID=America/New_York:20230609T100000
DTEND;TZID=America/New_York:20230609T130000
DTSTAMP:20260421T154033
CREATED:20221206T145859Z
LAST-MODIFIED:20230418T183513Z
UID:10000530-1686304800-1686315600@netcito.com
SUMMARY:Changecita Group Meeting
DESCRIPTION:The meeting for Changecita is scheduled for the 2nd Friday of every month from10:00AM-1:00PM. T \nLocation: TBD \nFacilitator:  Jamey S \n  \n2023 Meeting Dates: \n5/12 \n6/9 \n7/14 \n8/11 \n9/8 \n10/13 \n11/10 \n12/8 \n 
URL:https://netcito.com/event/changecita-group-meeting-5/2023-06-09/
ATTACH;FMTTYPE=image/png:https://netcito.com/wp-content/uploads/2022/12/Screenshot-2023-04-18-at-12.33.42-PM.png
END:VEVENT
BEGIN:VEVENT
DTSTART;TZID=America/New_York:20230614T120000
DTEND;TZID=America/New_York:20230614T130000
DTSTAMP:20260421T154033
CREATED:20230418T181648Z
LAST-MODIFIED:20230418T181648Z
UID:10000288-1686744000-1686747600@netcito.com
SUMMARY:Metacito: Balancing structure & flow in your meeting
DESCRIPTION:Metacito is for all Members. We hope you will join us. The skills we cover here are central to how you contribute to\, and the value you derive from\, Netcito monthly meetings. The topics also inform leadership in other environments in work and life. \n2023 Meeting Dates \n6/14
URL:https://netcito.com/event/metacito-balancing-structure-flow-in-your-meeting/
ATTACH;FMTTYPE=image/jpeg:https://netcito.com/wp-content/uploads/2021/03/4101784-scaled.jpg
END:VEVENT
BEGIN:VEVENT
DTSTART;TZID=America/New_York:20230616T143000
DTEND;TZID=America/New_York:20230616T180000
DTSTAMP:20260421T154033
CREATED:20221206T145859Z
LAST-MODIFIED:20230418T182342Z
UID:10000411-1686925800-1686938400@netcito.com
SUMMARY:Twocito Monthly Meeting
DESCRIPTION:The next Twocito meeting is scheduled monthly on the third Friday of the month from 2:30PM-6:00PM. \nChair: Zach Wilson \nVice Chair: Ian Fisk \nHost: TBD \n  \n2023 meeting dates \n4/21 \n5/19 \n6/16 \n7/21 \n8/18 \n9/15 \n10/20 \n11/17 \n12/15
URL:https://netcito.com/event/twocito-monthly-meeting-16/2023-06-16/
ATTACH;FMTTYPE=image/jpeg:https://netcito.com/wp-content/uploads/2021/03/February-meeting-image-2-21-scaled.jpg
END:VEVENT
BEGIN:VEVENT
DTSTART;TZID=UTC:20230619T120000
DTEND;TZID=UTC:20230619T133000
DTSTAMP:20260421T154033
CREATED:20230426T174047Z
LAST-MODIFIED:20230426T174047Z
UID:10000713-1687176000-1687181400@netcito.com
SUMMARY:Execution Essentials [2 of 3]
DESCRIPTION:Session 2: Driving Accountability with Rocks and Scorecards \nHosted by Dave Newberry of Six Corners \nIn this session\, you’ll focus on mastering your weekly tactical meetings using Rocks and Scorecards. Discover how to build your business while driving it by working “in” and “on” the business every week. Learn to set FAST Rocks and establish monthly accountability\, and explore how to involve your team in the process. \n 
URL:https://netcito.com/event/execution-essentials-2-of-3/
ATTACH;FMTTYPE=image/jpeg:https://netcito.com/wp-content/uploads/2022/04/henry-be-Pg63JThyCg-unsplash-scaled.jpg
END:VEVENT
BEGIN:VEVENT
DTSTART;TZID=America/New_York:20230620T140000
DTEND;TZID=America/New_York:20230620T170000
DTSTAMP:20260421T154033
CREATED:20221206T145859Z
LAST-MODIFIED:20230418T182859Z
UID:10000471-1687269600-1687280400@netcito.com
SUMMARY:Bosscito Monthly Meeting
DESCRIPTION:Bosscito meetings are set for the 3rd Tuesday of each month\, from 2:00PM-5:00PM. \nLocation: TBD \nChair: Haley Richers \nVice Chair: Nick Ilev \n2023 Meeting Dates\n4/18 \n5/16 \n6/20 \n7/18 \n8/15 \n9/19 \n10/17 \n11/21 \n12/19
URL:https://netcito.com/event/bosscito-monthly-meeting-18/2023-06-20/
ATTACH;FMTTYPE=image/jpeg:https://netcito.com/wp-content/uploads/2021/03/January-meeting-image-21.jpeg
END:VEVENT
BEGIN:VEVENT
DTSTART;TZID=America/New_York:20230627T093000
DTEND;TZID=America/New_York:20230627T130000
DTSTAMP:20260421T154033
CREATED:20221206T145900Z
LAST-MODIFIED:20230418T184025Z
UID:10000291-1687858200-1687870800@netcito.com
SUMMARY:DCito Monthly meeting
DESCRIPTION:The DCito monthly meeting is scheduled for the final Tuesday of each month\, 9:30AM-1:00PM. The host/location for this meeting is TBD and we will update this information after the group’s last meeting has concluded. \nLocation: TBD \nChair: Chris V \nVice Chair:  Scott & Olivia
URL:https://netcito.com/event/dcito-monthly-meeting-13/2023-06-27/
ATTACH;FMTTYPE=image/png:https://netcito.com/wp-content/uploads/2022/12/Screenshot-2023-04-18-at-12.37.42-PM.png
END:VEVENT
BEGIN:VEVENT
DTSTART;TZID=America/New_York:20230627T130000
DTEND;TZID=America/New_York:20230627T170000
DTSTAMP:20260421T154033
CREATED:20221206T145859Z
LAST-MODIFIED:20230418T182136Z
UID:10000351-1687870800-1687885200@netcito.com
SUMMARY:Phillycito Monthly Meeting
DESCRIPTION:Phillycito meetings are set for the 4th Tuesday of each month from 1-5PM\, with the first half hour usually reserved for lunch (when meeting in person). \nChair:  John S \nVice Chair: Leo \nLocation:  TBD \n  \n2023 meeting dates: \n4/25 \n5/23 \n6/27 \n7/25 \n8/22 \n9/26 \n10/24 \n11/28 \n12/19 (Moved up one week) \n  \n 
URL:https://netcito.com/event/phillycito-monthly-meeting-14/2023-06-27/
ATTACH;FMTTYPE=image/jpeg:https://netcito.com/wp-content/uploads/2021/04/February-meeting-image-21.jpg
END:VEVENT
BEGIN:VEVENT
DTSTART;TZID=America/Halifax:20230628T120000
DTEND;TZID=America/Halifax:20230628T130000
DTSTAMP:20260421T154033
CREATED:20230418T192039Z
LAST-MODIFIED:20230418T192057Z
UID:10000711-1687953600-1687957200@netcito.com
SUMMARY:Pitch Perfect: Elevate Your Investor Pitch with Peer Feedback
DESCRIPTION:In this 1-hour session\, you’ll have the opportunity to give and receive valuable feedback on your investor pitch from other entrepreneurs like yourself. Working with other Netcito entrepreneurs\, you’ll identify areas for improving and enhancing your pitch and increasing your chances of securing funding for your business. \nDuring the workshop\, members will share their pitches\, receive feedback from each other\, and walk away with actionable insights to take their pitch to the next level.
URL:https://netcito.com/event/7381/
ATTACH;FMTTYPE=image/png:https://netcito.com/wp-content/uploads/2023/04/Screenshot-2023-04-18-at-1.18.57-PM.png
ORGANIZER;CN="Peter Mellen":MAILTO:peter@petermellen.com
END:VEVENT
END:VCALENDAR